BEGIN:VCALENDAR
VERSION:2.0
PRODID:-//Deaf Santa Claus Foundation - ECPv6.15.11//NONSGML v1.0//EN
CALSCALE:GREGORIAN
METHOD:PUBLISH
X-WR-CALNAME:Deaf Santa Claus Foundation
X-ORIGINAL-URL:https://deafsantaclaus.org
X-WR-CALDESC:Events for Deaf Santa Claus Foundation
REFRESH-INTERVAL;VALUE=DURATION:PT1H
X-Robots-Tag:noindex
X-PUBLISHED-TTL:PT1H
BEGIN:VTIMEZONE
TZID:America/New_York
BEGIN:DAYLIGHT
TZOFFSETFROM:-0500
TZOFFSETTO:-0400
TZNAME:EDT
DTSTART:20240310T070000
END:DAYLIGHT
BEGIN:STANDARD
TZOFFSETFROM:-0400
TZOFFSETTO:-0500
TZNAME:EST
DTSTART:20241103T060000
END:STANDARD
BEGIN:DAYLIGHT
TZOFFSETFROM:-0500
TZOFFSETTO:-0400
TZNAME:EDT
DTSTART:20250309T070000
END:DAYLIGHT
BEGIN:STANDARD
TZOFFSETFROM:-0400
TZOFFSETTO:-0500
TZNAME:EST
DTSTART:20251102T060000
END:STANDARD
BEGIN:DAYLIGHT
TZOFFSETFROM:-0500
TZOFFSETTO:-0400
TZNAME:EDT
DTSTART:20260308T070000
END:DAYLIGHT
BEGIN:STANDARD
TZOFFSETFROM:-0400
TZOFFSETTO:-0500
TZNAME:EST
DTSTART:20261101T060000
END:STANDARD
END:VTIMEZONE
BEGIN:VEVENT
DTSTART;TZID=America/New_York:20251220T100000
DTEND;TZID=America/New_York:20251220T120000
DTSTAMP:20260425T125341
CREATED:20251213T134904Z
LAST-MODIFIED:20251213T134904Z
UID:10000462-1766224800-1766232000@deafsantaclaus.org
SUMMARY:Laemmle Culture Vulture Series - Claremont 5
DESCRIPTION:Join us for the Culture Vulture Series screenings of Deaf Santa Claus at Laemmle Claremont 5 Theatre in Claremont\, CA. \nThe film will be presented with open captions\, and tickets can be purchased at: https://www.laemmle.com/film/deaf-santa-claus \nFilm SynopsisWith an uncanny resemblance to the icon himself\, Charles Graves chases his dream of becoming a professional Deaf Santa Claus. Filmmakers chronicle Charles and his family as he attends Santa school and enlists the support of others in an attempt to better provide for his loved ones. \nThese screenings at Laemmle Claremont 5 in California are more than just a film—it’s a celebration of representation\, resilience\, and the power of community.
URL:https://deafsantaclaus.org/event/laemmle-culture-vulture-series-claremont-5-4/2025-12-20/
LOCATION:Laemmle Theatres – Claremont 5\, 450 West 2nd Street\, Claremont\, CA\, 91711\, United States
CATEGORIES:Film Showing
ATTACH;FMTTYPE=image/jpeg:https://deafsantaclaus.org/wp-content/uploads/2025/08/DSC_CA_Claremont-scaled.jpg
END:VEVENT
END:VCALENDAR