BEGIN:VCALENDAR
VERSION:2.0
PRODID:-//Deaf Santa Claus Foundation - ECPv6.15.11//NONSGML v1.0//EN
CALSCALE:GREGORIAN
METHOD:PUBLISH
X-WR-CALNAME:Deaf Santa Claus Foundation
X-ORIGINAL-URL:https://deafsantaclaus.org
X-WR-CALDESC:Events for Deaf Santa Claus Foundation
REFRESH-INTERVAL;VALUE=DURATION:PT1H
X-Robots-Tag:noindex
X-PUBLISHED-TTL:PT1H
BEGIN:VTIMEZONE
TZID:America/New_York
BEGIN:DAYLIGHT
TZOFFSETFROM:-0500
TZOFFSETTO:-0400
TZNAME:EDT
DTSTART:20240310T070000
END:DAYLIGHT
BEGIN:STANDARD
TZOFFSETFROM:-0400
TZOFFSETTO:-0500
TZNAME:EST
DTSTART:20241103T060000
END:STANDARD
BEGIN:DAYLIGHT
TZOFFSETFROM:-0500
TZOFFSETTO:-0400
TZNAME:EDT
DTSTART:20250309T070000
END:DAYLIGHT
BEGIN:STANDARD
TZOFFSETFROM:-0400
TZOFFSETTO:-0500
TZNAME:EST
DTSTART:20251102T060000
END:STANDARD
BEGIN:DAYLIGHT
TZOFFSETFROM:-0500
TZOFFSETTO:-0400
TZNAME:EDT
DTSTART:20260308T070000
END:DAYLIGHT
BEGIN:STANDARD
TZOFFSETFROM:-0400
TZOFFSETTO:-0500
TZNAME:EST
DTSTART:20261101T060000
END:STANDARD
END:VTIMEZONE
BEGIN:VEVENT
DTSTART;TZID=America/New_York:20251217T190000
DTEND;TZID=America/New_York:20251217T210000
DTSTAMP:20260425T070641
CREATED:20251008T162548Z
LAST-MODIFIED:20251208T102954Z
UID:4290-1765998000-1766005200@deafsantaclaus.org
SUMMARY:Florida - St. Augustine Film Society - Limelight Theatre
DESCRIPTION:Join us for the St. Augustine premiere of Deaf Santa Claus at the Limelight Theatre\, presented by The St. Augustine Film Society. \nThe film will be presented with open captions\, and to learn more\, please visit https://staugustinefilmsociety.com/ \nFor any questions or ticket inquiries\, please email staugustinefilmsociety@gmail.com. \nFilm SynopsisWith an uncanny resemblance to the icon himself\, Charles Graves chases his dream of becoming a professional Deaf Santa Claus. Filmmakers chronicle Charles and his family as he attends Santa school and enlists the support of others in an attempt to better provide for his loved ones. \nThis screening at The Limgelight Theatre is more than just a film—it’s a celebration of representation\, resilience\, and the power of community.
URL:https://deafsantaclaus.org/event/st-augustine-film-society-presents-limelight-theatre/
LOCATION:Limelight Theatre\, 11 Old Mission Ave\, St. Augustine\, FL\, 32084\, United States
CATEGORIES:Film Showing
ATTACH;FMTTYPE=image/jpeg:https://deafsantaclaus.org/wp-content/uploads/2025/10/DSC_StAugustine-scaled.jpg
GEO:29.9037895;-81.3184596
X-APPLE-STRUCTURED-LOCATION;VALUE=URI;X-ADDRESS=Limelight Theatre 11 Old Mission Ave St. Augustine FL 32084 United States;X-APPLE-RADIUS=500;X-TITLE=11 Old Mission Ave:geo:-81.3184596,29.9037895
END:VEVENT
END:VCALENDAR