BEGIN:VCALENDAR
VERSION:2.0
PRODID:-//Deaf Santa Claus Foundation - ECPv6.15.11//NONSGML v1.0//EN
CALSCALE:GREGORIAN
METHOD:PUBLISH
X-WR-CALNAME:Deaf Santa Claus Foundation
X-ORIGINAL-URL:https://deafsantaclaus.org
X-WR-CALDESC:Events for Deaf Santa Claus Foundation
REFRESH-INTERVAL;VALUE=DURATION:PT1H
X-Robots-Tag:noindex
X-PUBLISHED-TTL:PT1H
BEGIN:VTIMEZONE
TZID:America/New_York
BEGIN:DAYLIGHT
TZOFFSETFROM:-0500
TZOFFSETTO:-0400
TZNAME:EDT
DTSTART:20240310T070000
END:DAYLIGHT
BEGIN:STANDARD
TZOFFSETFROM:-0400
TZOFFSETTO:-0500
TZNAME:EST
DTSTART:20241103T060000
END:STANDARD
BEGIN:DAYLIGHT
TZOFFSETFROM:-0500
TZOFFSETTO:-0400
TZNAME:EDT
DTSTART:20250309T070000
END:DAYLIGHT
BEGIN:STANDARD
TZOFFSETFROM:-0400
TZOFFSETTO:-0500
TZNAME:EST
DTSTART:20251102T060000
END:STANDARD
BEGIN:DAYLIGHT
TZOFFSETFROM:-0500
TZOFFSETTO:-0400
TZNAME:EDT
DTSTART:20260308T070000
END:DAYLIGHT
BEGIN:STANDARD
TZOFFSETFROM:-0400
TZOFFSETTO:-0500
TZNAME:EST
DTSTART:20261101T060000
END:STANDARD
END:VTIMEZONE
BEGIN:VEVENT
DTSTART;TZID=America/New_York:20251216T160000
DTEND;TZID=America/New_York:20251216T193000
DTSTAMP:20260425T070701
CREATED:20251213T114541Z
LAST-MODIFIED:20251213T114758Z
UID:4652-1765900800-1765913400@deafsantaclaus.org
SUMMARY:Virginia Premiere - NVRC - Cinema Arts Theater
DESCRIPTION:Join us for the Virginia premiere of Deaf Santa Claus at the Cinema Arts Theater\, presented by Northern Virginia Resource Center for the Deaf and Hard of Hearing Persons (NVRC). \nThe film will be presented with open captions\, and to learn more\, please visit https://www.facebook.com/events/1381993873668602 \nFor tickets please RSVP  https://forms.gle/ogsxYtFJ9k2QAC656 \nFilm SynopsisWith an uncanny resemblance to the icon himself\, Charles Graves chases his dream of becoming a professional Deaf Santa Claus. Filmmakers chronicle Charles and his family as he attends Santa school and enlists the support of others in an attempt to better provide for his loved ones. \nThis screening at Cinema Arts Theater is more than just a film—it’s a celebration of representation\, resilience\, and the power of community.
URL:https://deafsantaclaus.org/event/virginia-premiere-nvrc-cinema-arts-theater/
LOCATION:Cinema Arts Theater\, 9650 Main St\, Fairfax\, VA\, 22031\, United States
CATEGORIES:Film Showing
ATTACH;FMTTYPE=image/jpeg:https://deafsantaclaus.org/wp-content/uploads/2025/12/DSC_Virginia-scaled.jpg
END:VEVENT
END:VCALENDAR