BEGIN:VCALENDAR
VERSION:2.0
PRODID:-//Deaf Santa Claus Foundation - ECPv6.15.11//NONSGML v1.0//EN
CALSCALE:GREGORIAN
METHOD:PUBLISH
X-WR-CALNAME:Deaf Santa Claus Foundation
X-ORIGINAL-URL:https://deafsantaclaus.org
X-WR-CALDESC:Events for Deaf Santa Claus Foundation
REFRESH-INTERVAL;VALUE=DURATION:PT1H
X-Robots-Tag:noindex
X-PUBLISHED-TTL:PT1H
BEGIN:VTIMEZONE
TZID:America/New_York
BEGIN:DAYLIGHT
TZOFFSETFROM:-0500
TZOFFSETTO:-0400
TZNAME:EDT
DTSTART:20240310T070000
END:DAYLIGHT
BEGIN:STANDARD
TZOFFSETFROM:-0400
TZOFFSETTO:-0500
TZNAME:EST
DTSTART:20241103T060000
END:STANDARD
BEGIN:DAYLIGHT
TZOFFSETFROM:-0500
TZOFFSETTO:-0400
TZNAME:EDT
DTSTART:20250309T070000
END:DAYLIGHT
BEGIN:STANDARD
TZOFFSETFROM:-0400
TZOFFSETTO:-0500
TZNAME:EST
DTSTART:20251102T060000
END:STANDARD
BEGIN:DAYLIGHT
TZOFFSETFROM:-0500
TZOFFSETTO:-0400
TZNAME:EDT
DTSTART:20260308T070000
END:DAYLIGHT
BEGIN:STANDARD
TZOFFSETFROM:-0400
TZOFFSETTO:-0500
TZNAME:EST
DTSTART:20261101T060000
END:STANDARD
END:VTIMEZONE
BEGIN:VEVENT
DTSTART;TZID=America/New_York:20251214T130000
DTEND;TZID=America/New_York:20251214T153000
DTSTAMP:20260421T071646
CREATED:20251208T102016Z
LAST-MODIFIED:20251208T102632Z
UID:4628-1765717200-1765726200@deafsantaclaus.org
SUMMARY:Washington - The Grand Illusion - SIFF Film Center
DESCRIPTION:Join us for the Washington State premiere of Deaf Santa Claus at the SIFF Film Center\, presented by The Grand Illusion. \nThe film will be presented with open captions\, and tickets can be purchased at: https://grandillusioncinema.org/film/deaf-santa-claus/ \nFilm SynopsisWith an uncanny resemblance to the icon himself\, Charles Graves chases his dream of becoming a professional Deaf Santa Claus. Filmmakers chronicle Charles and his family as he attends Santa school and enlists the support of others in an attempt to better provide for his loved ones. \nThis screening at SIFF Film Center is more than just a film—it’s a celebration of representation\, resilience\, and the power of community.
URL:https://deafsantaclaus.org/event/washington-siff-film-center/
LOCATION:SIFF Film Center\, 167 Republican St\, Seattle\, WA\, 98109\, United States
CATEGORIES:Film Showing
ATTACH;FMTTYPE=image/jpeg:https://deafsantaclaus.org/wp-content/uploads/2025/12/DSC_Washington-scaled.jpg
END:VEVENT
END:VCALENDAR